BEGIN:VCALENDAR
VERSION:2.0
PRODID:-//St. Michael&#039;s, Meadowbank - ECPv5.4.0//NONSGML v1.0//EN
CALSCALE:GREGORIAN
METHOD:PUBLISH
X-WR-CALNAME:St. Michael&#039;s, Meadowbank
X-ORIGINAL-URL:https://www.stmichaelsmeadowbank.org.au
X-WR-CALDESC:Events for St. Michael&#039;s, Meadowbank
BEGIN:VTIMEZONE
TZID:Australia/Sydney
BEGIN:STANDARD
TZOFFSETFROM:+1100
TZOFFSETTO:+1000
TZNAME:AEST
DTSTART:20180331T160000
END:STANDARD
BEGIN:DAYLIGHT
TZOFFSETFROM:+1000
TZOFFSETTO:+1100
TZNAME:AEDT
DTSTART:20181006T160000
END:DAYLIGHT
BEGIN:STANDARD
TZOFFSETFROM:+1100
TZOFFSETTO:+1000
TZNAME:AEST
DTSTART:20190406T160000
END:STANDARD
BEGIN:DAYLIGHT
TZOFFSETFROM:+1000
TZOFFSETTO:+1100
TZNAME:AEDT
DTSTART:20191005T160000
END:DAYLIGHT
END:VTIMEZONE
BEGIN:VEVENT
DTSTART;VALUE=DATE:20181208
DTEND;VALUE=DATE:20190121
DTSTAMP:20210301T100936
CREATED:20181108T121634Z
LAST-MODIFIED:20181216T175926Z
UID:1912-1544266800-1547981999@www.stmichaelsmeadowbank.org.au
SUMMARY:Event 2
DESCRIPTION:
URL:https://www.stmichaelsmeadowbank.org.au/event/event-2/
END:VEVENT
END:VCALENDAR