BEGIN:VCALENDAR
VERSION:2.0
PRODID:-//St. Michael&#039;s, Meadowbank - ECPv5.4.0//NONSGML v1.0//EN
CALSCALE:GREGORIAN
METHOD:PUBLISH
X-WR-CALNAME:St. Michael&#039;s, Meadowbank
X-ORIGINAL-URL:https://www.stmichaelsmeadowbank.org.au
X-WR-CALDESC:Events for St. Michael&#039;s, Meadowbank
BEGIN:VTIMEZONE
TZID:Australia/Sydney
BEGIN:STANDARD
TZOFFSETFROM:+1100
TZOFFSETTO:+1000
TZNAME:AEST
DTSTART:20180331T160000
END:STANDARD
BEGIN:DAYLIGHT
TZOFFSETFROM:+1000
TZOFFSETTO:+1100
TZNAME:AEDT
DTSTART:20181006T160000
END:DAYLIGHT
END:VTIMEZONE
BEGIN:VEVENT
DTSTART;VALUE=DATE:20181122
DTEND;VALUE=DATE:20181202
DTSTAMP:20210301T101808
CREATED:20181104T181449Z
LAST-MODIFIED:20181216T175931Z
UID:1544-1542884400-1543661999@www.stmichaelsmeadowbank.org.au
SUMMARY:Event 1
DESCRIPTION:
URL:https://www.stmichaelsmeadowbank.org.au/event/sample-event-2/
END:VEVENT
END:VCALENDAR