BEGIN:VCALENDAR
VERSION:2.0
PRODID:-//St. Michael&#039;s, Meadowbank - ECPv5.4.0//NONSGML v1.0//EN
CALSCALE:GREGORIAN
METHOD:PUBLISH
X-WR-CALNAME:St. Michael&#039;s, Meadowbank
X-ORIGINAL-URL:https://www.stmichaelsmeadowbank.org.au
X-WR-CALDESC:Events for St. Michael&#039;s, Meadowbank
BEGIN:VTIMEZONE
TZID:Australia/Sydney
BEGIN:STANDARD
TZOFFSETFROM:+1100
TZOFFSETTO:+1000
TZNAME:AEST
DTSTART:20180331T160000
END:STANDARD
BEGIN:DAYLIGHT
TZOFFSETFROM:+1000
TZOFFSETTO:+1100
TZNAME:AEDT
DTSTART:20181006T160000
END:DAYLIGHT
END:VTIMEZONE
BEGIN:VEVENT
DTSTART;TZID=Australia/Sydney:20181031T190000
DTEND;TZID=Australia/Sydney:20181103T040000
DTSTAMP:20210301T094948
CREATED:20181029T132046Z
LAST-MODIFIED:20181216T175939Z
UID:1263-1541012400-1541217600@www.stmichaelsmeadowbank.org.au
SUMMARY:Sample Event
DESCRIPTION:
URL:https://www.stmichaelsmeadowbank.org.au/event/sample-event/
END:VEVENT
END:VCALENDAR