BEGIN:VCALENDAR
VERSION:2.0
PRODID:-//St. Michael&#039;s, Meadowbank - ECPv5.4.0//NONSGML v1.0//EN
CALSCALE:GREGORIAN
METHOD:PUBLISH
X-WR-CALNAME:St. Michael&#039;s, Meadowbank
X-ORIGINAL-URL:https://www.stmichaelsmeadowbank.org.au
X-WR-CALDESC:Events for St. Michael&#039;s, Meadowbank
BEGIN:VTIMEZONE
TZID:Australia/Sydney
BEGIN:STANDARD
TZOFFSETFROM:+1100
TZOFFSETTO:+1000
TZNAME:AEST
DTSTART:20190406T160000
END:STANDARD
BEGIN:DAYLIGHT
TZOFFSETFROM:+1000
TZOFFSETTO:+1100
TZNAME:AEDT
DTSTART:20191005T160000
END:DAYLIGHT
END:VTIMEZONE
BEGIN:VEVENT
DTSTART;VALUE=DATE:20190404
DTEND;VALUE=DATE:20190407
DTSTAMP:20210301T095042
CREATED:20190131T162835Z
LAST-MODIFIED:20190131T162835Z
UID:2130-1554375600-1554548399@www.stmichaelsmeadowbank.org.au
SUMMARY:Sample Event
DESCRIPTION:
URL:https://www.stmichaelsmeadowbank.org.au/event/sample-event-3/
END:VEVENT
END:VCALENDAR