BEGIN:VCALENDAR
VERSION:2.0
PRODID:-//St. Michael&#039;s, Meadowbank - ECPv5.4.0//NONSGML v1.0//EN
CALSCALE:GREGORIAN
METHOD:PUBLISH
X-WR-CALNAME:St. Michael&#039;s, Meadowbank
X-ORIGINAL-URL:https://www.stmichaelsmeadowbank.org.au
X-WR-CALDESC:Events for St. Michael&#039;s, Meadowbank
BEGIN:VTIMEZONE
TZID:Australia/Sydney
BEGIN:STANDARD
TZOFFSETFROM:+1100
TZOFFSETTO:+1000
TZNAME:AEST
DTSTART:20190406T160000
END:STANDARD
BEGIN:DAYLIGHT
TZOFFSETFROM:+1000
TZOFFSETTO:+1100
TZNAME:AEDT
DTSTART:20191005T160000
END:DAYLIGHT
END:VTIMEZONE
BEGIN:VEVENT
DTSTART;TZID=Australia/Sydney:20190915T140000
DTEND;TZID=Australia/Sydney:20190915T200000
DTSTAMP:20210301T095053
CREATED:20190811T062051Z
LAST-MODIFIED:20190811T062051Z
UID:2516-1568556000-1568577600@www.stmichaelsmeadowbank.org.au
SUMMARY:Parish Feast
DESCRIPTION:
URL:https://www.stmichaelsmeadowbank.org.au/event/parish-feast/
LOCATION:Our Lady of Victories Parish\, 1788 The Horsley Drive\, Horsley Park\, NSW\, 2175\, Australia
END:VEVENT
END:VCALENDAR